BEGIN:VCALENDAR
VERSION:2.0
PRODID:-//National Cattledog Association - ECPv6.15.14//NONSGML v1.0//EN
CALSCALE:GREGORIAN
METHOD:PUBLISH
X-ORIGINAL-URL:https://nationalcattledog.com
X-WR-CALDESC:Events for National Cattledog Association
REFRESH-INTERVAL;VALUE=DURATION:PT1H
X-Robots-Tag:noindex
X-PUBLISHED-TTL:PT1H
BEGIN:VTIMEZONE
TZID:America/Phoenix
BEGIN:STANDARD
TZOFFSETFROM:-0700
TZOFFSETTO:-0700
TZNAME:MST
DTSTART:20220101T000000
END:STANDARD
END:VTIMEZONE
BEGIN:VEVENT
DTSTART;VALUE=DATE:20230902
DTEND;VALUE=DATE:20230904
DTSTAMP:20260422T042248
CREATED:20230713T202705Z
LAST-MODIFIED:20230903T221109Z
UID:10000111-1693612800-1693785599@nationalcattledog.com
SUMMARY:Abingdon Memorial Classic\, Shedd\, OR
DESCRIPTION:Josh Harrisstumblingjlivestock@yahoo.com541-409-5650 \nOn Foot \n\n\n\n\n\n\n\n\n\nNCA Sanctioned ClassesOpen-2Nursery-2Intermediate-2Novice – 2 \nNCA Region – WCNCA and MSSA sanctioned
URL:https://nationalcattledog.com/trial-calendar/abingdon-memorial-classic-shedd-or/
LOCATION:Shedd\, OR 97377\, USA
END:VEVENT
END:VCALENDAR