BEGIN:VCALENDAR
VERSION:2.0
PRODID:-//National Cattledog Association - ECPv6.15.14//NONSGML v1.0//EN
CALSCALE:GREGORIAN
METHOD:PUBLISH
X-ORIGINAL-URL:https://nationalcattledog.com
X-WR-CALDESC:Events for National Cattledog Association
REFRESH-INTERVAL;VALUE=DURATION:PT1H
X-Robots-Tag:noindex
X-PUBLISHED-TTL:PT1H
BEGIN:VTIMEZONE
TZID:America/Phoenix
BEGIN:STANDARD
TZOFFSETFROM:-0700
TZOFFSETTO:-0700
TZNAME:MST
DTSTART:20220101T000000
END:STANDARD
END:VTIMEZONE
BEGIN:VEVENT
DTSTART;VALUE=DATE:20241122
DTEND;VALUE=DATE:20241124
DTSTAMP:20260422T103622
CREATED:20240629T172147Z
LAST-MODIFIED:20241123T092247Z
UID:10000210-1732233600-1732406399@nationalcattledog.com
SUMMARY:First State Bank CDT\, Rainsville\, AL
DESCRIPTION:Entry Form \nFlyerStuart Mitchellfourm@farmerstel.com256-899-4890 \nOn Foot \nNCA Sanctioned Classes Open-2Nursery-2Intermediate-2Novice – 2 \nFacebook page or group:  Alabama Stockdog Association \nNCA Region – SENCA\, MSSDA\, Alabama Stockdog Association\, and Southern Stockdog Association sanctioned
URL:https://nationalcattledog.com/trial-calendar/first-state-bank-cdt-rainsville-al/
LOCATION:North East Alabama Agri-Business Center\, 1571 McCurdy Ave N\, Rainsville\, AL\, United States
GEO:34.513554;-85.833937
X-APPLE-STRUCTURED-LOCATION;VALUE=URI;X-ADDRESS=North East Alabama Agri-Business Center 1571 McCurdy Ave N Rainsville AL United States;X-APPLE-RADIUS=500;X-TITLE=1571 McCurdy Ave N:geo:-85.833937,34.513554
END:VEVENT
BEGIN:VEVENT
DTSTART;VALUE=DATE:20231117
DTEND;VALUE=DATE:20231119
DTSTAMP:20260422T103622
CREATED:20230707T194159Z
LAST-MODIFIED:20231118T172736Z
UID:10000102-1700179200-1700351999@nationalcattledog.com
SUMMARY:First State Bank Cattledog Trial\, Rainsville\, AL
DESCRIPTION:Stuart Mitchell/4M Border Colliesfourm@farmerstel.com256-899-4890 \nOn Foot \n\n\n\n\n\n\n\n\n\nNCA Sanctioned ClassesOpen-2Nursery-2Intermediate-2Novice – 2 \n We are having an optional four day average in conjunction with the Magnolia Ranch Dog Trial on Nov. 20-21.  The four day average entry form is included at the end of our form   \nEntry for average \nNCA Region – SENCA\, MSSA\, and Southern Stockdog Association sanctioned
URL:https://nationalcattledog.com/trial-calendar/first-state-bank-cattledog-trial-rainsville-al/
LOCATION:North East Alabama Agri-Business Center\, 1571 McCurdy Ave N\, Rainsville\, AL\, United States
GEO:34.513554;-85.833937
X-APPLE-STRUCTURED-LOCATION;VALUE=URI;X-ADDRESS=North East Alabama Agri-Business Center 1571 McCurdy Ave N Rainsville AL United States;X-APPLE-RADIUS=500;X-TITLE=1571 McCurdy Ave N:geo:-85.833937,34.513554
END:VEVENT
END:VCALENDAR