BEGIN:VCALENDAR
VERSION:2.0
PRODID:-//National Cattledog Association - ECPv6.15.14//NONSGML v1.0//EN
CALSCALE:GREGORIAN
METHOD:PUBLISH
X-ORIGINAL-URL:https://nationalcattledog.com
X-WR-CALDESC:Events for National Cattledog Association
REFRESH-INTERVAL;VALUE=DURATION:PT1H
X-Robots-Tag:noindex
X-PUBLISHED-TTL:PT1H
BEGIN:VTIMEZONE
TZID:America/Phoenix
BEGIN:STANDARD
TZOFFSETFROM:-0700
TZOFFSETTO:-0700
TZNAME:MST
DTSTART:20240101T000000
END:STANDARD
END:VTIMEZONE
BEGIN:VEVENT
DTSTART;VALUE=DATE:20260110
DTEND;VALUE=DATE:20260113
DTSTAMP:20260422T044330
CREATED:20251017T202551Z
LAST-MODIFIED:20260112T185529Z
UID:10000325-1768003200-1768262399@nationalcattledog.com
SUMMARY:National Western Stock Show Cattle Dog Trial-Dencer\, CO
DESCRIPTION:Bob Wagnerbob@wagner-ranch.com(970)420-2336 \nhttps://nationalwestern.com/livestock-shows/livestock-exhibitors/ \nOn FootNCA Sanctioned ClassesOpen-2Nursery-2Intermediate-2 \nNCA Region – HP
URL:https://nationalcattledog.com/trial-calendar/national-western-stock-show-cattle-dog-trial-dencer-co-2/
LOCATION:Denver\, CO\, Denver\, Colorado\, United States
GEO:39.7392358;-104.990251
END:VEVENT
BEGIN:VEVENT
DTSTART;VALUE=DATE:20250111
DTEND;VALUE=DATE:20250114
DTSTAMP:20260422T044330
CREATED:20241201T093913Z
LAST-MODIFIED:20250113T172324Z
UID:10000252-1736553600-1736812799@nationalcattledog.com
SUMMARY:National Western Stock Show Cattle Dog Trial-Dencer\, CO
DESCRIPTION:Entry form \nBob Wagnerbob@wagner-ranch.com(970)420-2336 \nOn FootNCA Sanctioned ClassesOpen-2Nursery-2Intermediate-2 \nNovice handlers may compete in Intermediate class. \nNCA Region – HP
URL:https://nationalcattledog.com/trial-calendar/national-western-stock-show-cattle-dog-trial-dencer-co/
LOCATION:Denver\, CO\, Denver\, Colorado\, United States
GEO:39.7392358;-104.990251
END:VEVENT
END:VCALENDAR