BEGIN:VCALENDAR
VERSION:2.0
PRODID:-//National Cattledog Association - ECPv6.15.14//NONSGML v1.0//EN
CALSCALE:GREGORIAN
METHOD:PUBLISH
X-ORIGINAL-URL:https://nationalcattledog.com
X-WR-CALDESC:Events for National Cattledog Association
REFRESH-INTERVAL;VALUE=DURATION:PT1H
X-Robots-Tag:noindex
X-PUBLISHED-TTL:PT1H
BEGIN:VTIMEZONE
TZID:America/Phoenix
BEGIN:STANDARD
TZOFFSETFROM:-0700
TZOFFSETTO:-0700
TZNAME:MST
DTSTART:20230101T000000
END:STANDARD
END:VTIMEZONE
BEGIN:VEVENT
DTSTART;VALUE=DATE:20240914
DTEND;VALUE=DATE:20240916
DTSTAMP:20260419T071406
CREATED:20240509T101228Z
LAST-MODIFIED:20240915T212140Z
UID:10000204-1726272000-1726444799@nationalcattledog.com
SUMMARY:Rose Cattle Company CDT\, Toston\, MT
DESCRIPTION:  https://www.rosecattlecompanyarena.com/dog-trial-entriesJohn Rose406-580-6849rosecattleco@gmail.com \nOn FootNCA Sanctioned Classes Open-2Nursery-2Intermediate-2Novice – 2 \nPoints and time.  Handlers meeting at 0730 am.  100 dog per day limit\, entries are open until the classes fill. \nPlease note that Nursery dogs must be born on or after October 1st\, 2021 \nNCA Region – HPNCA sanctioned
URL:https://nationalcattledog.com/trial-calendar/rose-cattle-company-cdt-toston-mt-3/
LOCATION:290 Kimpton Upper Ln\, Toston\, MT\, United States
GEO:46.1656;-111.44647
END:VEVENT
BEGIN:VEVENT
DTSTART;VALUE=DATE:20240810
DTEND;VALUE=DATE:20240812
DTSTAMP:20260419T071406
CREATED:20240509T101227Z
LAST-MODIFIED:20240811T192215Z
UID:10000203-1723248000-1723420799@nationalcattledog.com
SUMMARY:Rose Cattle Company CDT\, Toston\, MT
DESCRIPTION:  https://www.rosecattlecompanyarena.com/dog-trial-entriesJohn Rose406-580-6849rosecattleco@gmail.com \nOn FootNCA Sanctioned Classes Open-2Nursery-2Intermediate-2Novice – 2 \nPoints and time.  Handlers meeting at 0730 am.  100 dog per day limit\, entries are open until the classes fill. \nPlease note that Nursery dogs must be born on or after October 1st\, 2021 \nNCA Region – HPNCA sanctioned
URL:https://nationalcattledog.com/trial-calendar/rose-cattle-company-cdt-toston-mt-2/
LOCATION:290 Kimpton Upper Ln\, Toston\, MT\, United States
GEO:46.1656;-111.44647
END:VEVENT
BEGIN:VEVENT
DTSTART;VALUE=DATE:20240713
DTEND;VALUE=DATE:20240715
DTSTAMP:20260419T071406
CREATED:20240509T101226Z
LAST-MODIFIED:20240714T173642Z
UID:10000202-1720828800-1721001599@nationalcattledog.com
SUMMARY:CANCELLED-  Rose Cattle Company CDT\, Toston\, MT
DESCRIPTION:  https://www.rosecattlecompanyarena.com/dog-trial-entriesJohn Rose406-580-6849rosecattleco@gmail.com \nOn FootNCA Sanctioned Classes Open-2Nursery-2Intermediate-2Novice – 2 \nPoints and time.  Handlers meeting at 0730 am.  100 dog per day limit\, entries are open until the classes fill. \nPlease note that Nursery dogs must be born on or after October 1st\, 2021 \nNCA Region – HPNCA sanctioned
URL:https://nationalcattledog.com/trial-calendar/rose-cattle-company-cdt-toston-mt/
LOCATION:290 Kimpton Upper Ln\, Toston\, MT\, United States
GEO:46.1656;-111.44647
END:VEVENT
END:VCALENDAR