BEGIN:VCALENDAR
VERSION:2.0
PRODID:-//National Cattledog Association - ECPv6.15.14//NONSGML v1.0//EN
CALSCALE:GREGORIAN
METHOD:PUBLISH
X-ORIGINAL-URL:https://nationalcattledog.com
X-WR-CALDESC:Events for National Cattledog Association
REFRESH-INTERVAL;VALUE=DURATION:PT1H
X-Robots-Tag:noindex
X-PUBLISHED-TTL:PT1H
BEGIN:VTIMEZONE
TZID:America/Phoenix
BEGIN:STANDARD
TZOFFSETFROM:-0700
TZOFFSETTO:-0700
TZNAME:MST
DTSTART:20240101T000000
END:STANDARD
END:VTIMEZONE
BEGIN:VEVENT
DTSTART;VALUE=DATE:20250207
DTEND;VALUE=DATE:20250209
DTSTAMP:20260420T120151
CREATED:20240904T203643Z
LAST-MODIFIED:20250208T182141Z
UID:10000229-1738886400-1739059199@nationalcattledog.com
SUMMARY:Cache Cattle Challenge-February\, Wellsville\, Utah
DESCRIPTION:DJ Andersoncachecattlechallenge@gmail.com801-419-9429 \nOn FootNCA Sanctioned ClassesOpen-2Nursery-2Intermediate-2Novice – 2 \nNCA Region – HPNCA\, SWCDA and MSSA sanctioned
URL:https://nationalcattledog.com/trial-calendar/cache-cattle-challenge-february-wellsville-utah/
LOCATION:Wellsville\, Wellsville\, UT\, United States
GEO:41.637826;-111.917588
END:VEVENT
BEGIN:VEVENT
DTSTART;VALUE=DATE:20250207
DTEND;VALUE=DATE:20250210
DTSTAMP:20260420T120151
CREATED:20241001T220658Z
LAST-MODIFIED:20250209T183815Z
UID:10000238-1738886400-1739145599@nationalcattledog.com
SUMMARY:Double Shoe Ranch Stockdogs Trial 2 Jackson\, OH
DESCRIPTION:FlyerEntry Form \nStephen Walkerhorsedr@hotmail.com(740)646-8058 \nOn Foot and HorsebackNCA Sanctioned Classes Open-2Nursery-2Intermediate-2Novice – 3Horseback-2 \nTrial Flyer and Entry Form will follow \nNCA Region – NENCA  sanctioned
URL:https://nationalcattledog.com/trial-calendar/double-shoe-ranch-stockdogs-trial-2-jackson-oh/
LOCATION:Henderson’s Arena\, 800 Van Fossan Rd\, Jackson\, OH\, United States
GEO:39.006643;-82.768506
X-APPLE-STRUCTURED-LOCATION;VALUE=URI;X-ADDRESS=Henderson’s Arena 800 Van Fossan Rd Jackson OH United States;X-APPLE-RADIUS=500;X-TITLE=800 Van Fossan Rd:geo:-82.768506,39.006643
END:VEVENT
BEGIN:VEVENT
DTSTART;VALUE=DATE:20250222
DTEND;VALUE=DATE:20250224
DTSTAMP:20260420T120151
CREATED:20240819T195143Z
LAST-MODIFIED:20250223T190845Z
UID:10000225-1740182400-1740355199@nationalcattledog.com
SUMMARY:Double C Sunshine Classic\, Marianna\, FL
DESCRIPTION:Entry Form \nEd Clementsedclements@centurylink.net850-210-2596 \nOn Foot \nNCA Sanctioned ClassesOpen-2Nursery-2Intermediate-2Novice-2 \nNCA Region SENCA and Southern Stockdog Association sanctioned
URL:https://nationalcattledog.com/trial-calendar/double-c-sunshine-classic-marianna-fl/
LOCATION:3631 US-90\, Marianna\, FL\, United States
GEO:30.674946;-85.212174
END:VEVENT
BEGIN:VEVENT
DTSTART;VALUE=DATE:20250228
DTEND;VALUE=DATE:20250303
DTSTAMP:20260420T120151
CREATED:20250115T172414Z
LAST-MODIFIED:20250302T190811Z
UID:10000253-1740700800-1740959999@nationalcattledog.com
SUMMARY:Bar None CDT\, Tatum\, TX
DESCRIPTION:Entry Form \nLawrence Fillingimbncc.cattledog.trials@gmail.com(903)720-1218 \nOn Foot & Horseback \nNCA Sanctioned ClassesOpen-2Nursery-2Intermediate-2Novice-2Horseback-1 \nNCA Region SCNCA\, MSSA and SWCA sanctioned \nHorseback class on Friday. On Foot Classes on Saturday and Sunday.ADDED MONEY.
URL:https://nationalcattledog.com/trial-calendar/bar-none-cdt-tatum-tx-3/
LOCATION:Tatum\, TX\, USA\, Tatum\, Texas\, United States
GEO:32.3155492;-94.5169762
END:VEVENT
END:VCALENDAR